BEGIN:VCALENDAR
VERSION:2.0
PRODID:-//ChamberMaster//Event Calendar 2.0//EN
METHOD:PUBLISH
X-PUBLISHED-TTL:P3D
REFRESH-INTERVAL:P3D
CALSCALE:GREGORIAN
BEGIN:VEVENT
DTSTART;VALUE=DATE:20180321
DTEND;VALUE=DATE:20180322
TRANSP:TRANSPARENT
X-MICROSOFT-CDO-ALLDAYEVENT:TRUE
SUMMARY:test
DESCRIPTION:test
X-ALT-DESC;FMTTYPE=text/html:test
LOCATION:
UID:e.1526.2687
SEQUENCE:3
DTSTAMP:20260424T212355Z
URL:http://missyssite.sampleorg.com/events/details/test-2687
END:VEVENT

END:VCALENDAR
