BEGIN:VCALENDAR
VERSION:2.0
PRODID:-//ChamberMaster//Event Calendar 2.0//EN
METHOD:PUBLISH
X-PUBLISHED-TTL:P3D
REFRESH-INTERVAL:P3D
CALSCALE:GREGORIAN
BEGIN:VEVENT
DTSTART;VALUE=DATE:20190824
DTEND;VALUE=DATE:20190825
TRANSP:TRANSPARENT
X-MICROSOFT-CDO-ALLDAYEVENT:TRUE
SUMMARY:Summer Soap Box Derby
DESCRIPTION:Strap on your helmets and join us for our 60th annual soap box derby race. This year we are offering more prizes and opportunities to win. All racers must be under the age of 14 and their cart must be hand made. All racers will be paired based on ability and style of their cart.\n\n\n\nThe craft fair will offer many creative items from local vendors. Food trucks and vendors will also be available.
X-ALT-DESC;FMTTYPE=text/html:Strap on your helmets and join us for our 60th annual soap box derby race. This year we are offering more prizes and opportunities to win. All racers must be under the age of 14 and their cart must be hand made. All racers will be paired based on ability and style of their cart.<br />\n<br />\nThe craft fair will offer many creative items from local vendors. Food trucks and vendors will also be available.<br />\n<br />\n&nbsp\;
LOCATION:We are blocking off Main street for this event. The starting line will be at the corner of 1st and Main and the finish line will be at 2nd and main.
UID:e.1526.2868
SEQUENCE:3
DTSTAMP:20260423T073846Z
URL:http://missyssite.sampleorg.com/events/details/summer-soap-box-derby-2868
END:VEVENT

END:VCALENDAR
