BEGIN:VCALENDAR
VERSION:2.0
PRODID:-//ChamberMaster//Event Calendar 2.0//EN
METHOD:PUBLISH
X-PUBLISHED-TTL:P3D
REFRESH-INTERVAL:P3D
CALSCALE:GREGORIAN
BEGIN:VEVENT
DTSTART:20211130T140000Z
DTEND:20211130T160000Z
X-MICROSOFT-CDO-ALLDAYEVENT:FALSE
SUMMARY:Summer Fun Run/Walk 5K
DESCRIPTION:
X-ALT-DESC;FMTTYPE=text/html:
LOCATION:
UID:e.1526.2270
SEQUENCE:3
DTSTAMP:20260421T071826Z
URL:http://missyssite.sampleorg.com/events/details/summer-fun-run-walk-5k-06-30-2016-2270
END:VEVENT

END:VCALENDAR
