BEGIN:VCALENDAR
VERSION:2.0
PRODID:-//ChamberMaster//Event Calendar 2.0//EN
METHOD:PUBLISH
X-PUBLISHED-TTL:P3D
REFRESH-INTERVAL:P3D
CALSCALE:GREGORIAN
BEGIN:VEVENT
DTSTART;VALUE=DATE:20200319
DTEND;VALUE=DATE:20200501
TRANSP:TRANSPARENT
X-MICROSOFT-CDO-ALLDAYEVENT:TRUE
SUMMARY:Online Gift Card Sales
DESCRIPTION:Our members are doing the best they can to help in this trying time. Many of our members offer carry out\, curb side or delivery. The chamber is helping by gathering a list of gift cards available to sell.\n\n\n\nThe chamber will notify the member of your purchase and they will provide the gift card to you.
X-ALT-DESC;FMTTYPE=text/html:Our members are doing the best they can to help in this trying time. Many of our members offer carry out\, curb side or delivery. The chamber is helping by gathering a list of gift cards available to sell.<br />\n<br />\nThe chamber will notify the member of your purchase and they will provide the gift card to you.
LOCATION:
UID:e.1526.2998
SEQUENCE:3
DTSTAMP:20260422T155828Z
URL:http://missyssite.sampleorg.com/events/details/online-gift-card-sales-2998
END:VEVENT

END:VCALENDAR
