BEGIN:VCALENDAR
VERSION:2.0
PRODID:-//ChamberMaster//Event Calendar 2.0//EN
METHOD:PUBLISH
X-PUBLISHED-TTL:P3D
REFRESH-INTERVAL:P3D
CALSCALE:GREGORIAN
BEGIN:VEVENT
DTSTART;VALUE=DATE:20200125
DTEND;VALUE=DATE:20200126
TRANSP:TRANSPARENT
X-MICROSOFT-CDO-ALLDAYEVENT:TRUE
SUMMARY:NYP registration
DESCRIPTION:
X-ALT-DESC;FMTTYPE=text/html:
LOCATION:
UID:e.1526.2721
SEQUENCE:3
DTSTAMP:20260422T204530Z
URL:http://missyssite.sampleorg.com/events/details/nyp-registration-2721
END:VEVENT

END:VCALENDAR
