BEGIN:VCALENDAR
VERSION:2.0
PRODID:-//ChamberMaster//Event Calendar 2.0//EN
METHOD:PUBLISH
X-PUBLISHED-TTL:P3D
REFRESH-INTERVAL:P3D
CALSCALE:GREGORIAN
BEGIN:VEVENT
DTSTART:20230902T040000Z
DTEND:20230901T190000Z
X-MICROSOFT-CDO-ALLDAYEVENT:FALSE
SUMMARY:Member Meeting
DESCRIPTION:
X-ALT-DESC;FMTTYPE=text/html:
LOCATION:
UID:e.1526.2999
SEQUENCE:3
DTSTAMP:20260420T004633Z
URL:http://missyssite.sampleorg.com/events/details/member-meeting-05-28-2020-2999
END:VEVENT

END:VCALENDAR
