BEGIN:VCALENDAR
VERSION:2.0
PRODID:-//ChamberMaster//Event Calendar 2.0//EN
METHOD:PUBLISH
X-PUBLISHED-TTL:P3D
REFRESH-INTERVAL:P3D
CALSCALE:GREGORIAN
BEGIN:VEVENT
DTSTART;VALUE=DATE:20171204
DTEND;VALUE=DATE:20171205
TRANSP:TRANSPARENT
X-MICROSOFT-CDO-ALLDAYEVENT:TRUE
SUMMARY:Marion
DESCRIPTION:Test
X-ALT-DESC;FMTTYPE=text/html:<a href="https://google.com">Test</a>
LOCATION:
UID:e.1526.2681
SEQUENCE:3
DTSTAMP:20260425T022129Z
URL:http://missyssite.sampleorg.com/events/details/marion-2681
END:VEVENT

END:VCALENDAR
