BEGIN:VCALENDAR
VERSION:2.0
PRODID:-//ChamberMaster//Event Calendar 2.0//EN
METHOD:PUBLISH
X-PUBLISHED-TTL:P3D
REFRESH-INTERVAL:P3D
CALSCALE:GREGORIAN
BEGIN:VEVENT
DTSTART:20161121T180000Z
DTEND:20161121T230000Z
X-MICROSOFT-CDO-ALLDAYEVENT:FALSE
SUMMARY:Great Pumpkin Festival 1
DESCRIPTION:Great Pumpkin Festival sponsored by Brainerd Park and Recreation All ages - children must be accompanied by an adult Age Divisions 7 and under 8 to 12 13 and older There will also be events where parents/guardians will participate with their children 2015 Activities Flyer Activities 3-legged races Sack races Pumpkin rolling races Pie throwing event Pie eating contest Bouncie slide Great Pumpkin Coloring Contest - 2015 Coloring Sheet PDF for at home printing Face Painting Traveling Art Pub - Canvas Art Horse rides provided by Outback Trail Rides (small fee) Food Vendor: Brainerd Lakes Area Women of Today Free hot chocolate\, coffee and cider provided by Park United Methodist Church
X-ALT-DESC;FMTTYPE=text/html:Great Pumpkin Festival sponsored by Brainerd Park and Recreation All ages - children must be accompanied by an adult Age Divisions 7 and under 8 to 12 13 and older There will also be events where parents/guardians will participate with their children 2015 Activities Flyer Activities 3-legged races Sack races Pumpkin rolling races Pie throwing event Pie eating contest Bouncie slide Great Pumpkin Coloring Contest - 2015 Coloring Sheet PDF for at home printing Face Painting Traveling Art Pub - Canvas Art Horse rides provided by Outback Trail Rides (small fee) Food Vendor: Brainerd Lakes Area Women of Today Free hot chocolate\, coffee and cider provided by Park United Methodist Church
LOCATION:Gregory Park 424 N 5th Street Brainerd\, MN 56401
UID:e.1526.2291
SEQUENCE:3
DTSTAMP:20260426T032759Z
URL:http://missyssite.sampleorg.com/events/details/great-pumpkin-festival-1-11-21-2016-2291
END:VEVENT

END:VCALENDAR
