BEGIN:VCALENDAR
VERSION:2.0
PRODID:-//ChamberMaster//Event Calendar 2.0//EN
METHOD:PUBLISH
X-PUBLISHED-TTL:P3D
REFRESH-INTERVAL:P3D
CALSCALE:GREGORIAN
BEGIN:VEVENT
DTSTART;VALUE=DATE:20170120
DTEND;VALUE=DATE:20170121
TRANSP:TRANSPARENT
X-MICROSOFT-CDO-ALLDAYEVENT:TRUE
SUMMARY:Gift Card Sales
DESCRIPTION:test
X-ALT-DESC;FMTTYPE=text/html:test
LOCATION:test
UID:e.1526.2520
SEQUENCE:3
DTSTAMP:20260426T003753Z
URL:http://missyssite.sampleorg.com/events/details/gift-card-sales-2520
END:VEVENT

END:VCALENDAR
