BEGIN:VCALENDAR
VERSION:2.0
PRODID:-//ChamberMaster//Event Calendar 2.0//EN
METHOD:PUBLISH
X-PUBLISHED-TTL:P3D
REFRESH-INTERVAL:P3D
CALSCALE:GREGORIAN
BEGIN:VEVENT
DTSTART;VALUE=DATE:20181030
DTEND;VALUE=DATE:20181031
TRANSP:TRANSPARENT
X-MICROSOFT-CDO-ALLDAYEVENT:TRUE
SUMMARY:Fall festival and parade
DESCRIPTION:test
X-ALT-DESC;FMTTYPE=text/html:test&nbsp\;&nbsp\;&nbsp\;&nbsp\;&nbsp\;&nbsp\;&nbsp\;&nbsp\;
LOCATION:test
UID:e.1526.2725
SEQUENCE:3
DTSTAMP:20260424T060728Z
URL:http://missyssite.sampleorg.com/events/details/fall-festival-and-parade-2725
END:VEVENT

END:VCALENDAR
