BEGIN:VCALENDAR
VERSION:2.0
PRODID:-//ChamberMaster//Event Calendar 2.0//EN
METHOD:PUBLISH
X-PUBLISHED-TTL:P3D
REFRESH-INTERVAL:P3D
CALSCALE:GREGORIAN
BEGIN:VEVENT
DTSTART:20161222T200000Z
DTEND:20161223T030000Z
X-MICROSOFT-CDO-ALLDAYEVENT:FALSE
SUMMARY:Chistmas in town square
DESCRIPTION:
X-ALT-DESC;FMTTYPE=text/html:
LOCATION:
UID:e.1526.2283
SEQUENCE:3
DTSTAMP:20260426T015229Z
URL:http://missyssite.sampleorg.com/events/details/chistmas-in-town-square-2283
END:VEVENT

END:VCALENDAR
