BEGIN:VCALENDAR
VERSION:2.0
PRODID:-//ChamberMaster//Event Calendar 2.0//EN
METHOD:PUBLISH
X-PUBLISHED-TTL:P3D
REFRESH-INTERVAL:P3D
CALSCALE:GREGORIAN
BEGIN:VEVENT
DTSTART;VALUE=DATE:20171127
DTEND;VALUE=DATE:20171128
TRANSP:TRANSPARENT
X-MICROSOFT-CDO-ALLDAYEVENT:TRUE
SUMMARY:blah blah
DESCRIPTION:Puppies. Congratulations! You've made the important decision to bring a puppy into your heart as well as your home. Now let's find the right breed for you from a ...\n\n\n\nalksjflkasjd\;lkfjasdkjglkanv\;oiaweja\;lkdsmfl\;kajsdf from
X-ALT-DESC;FMTTYPE=text/html:<em style="font-weight: bold\; font-style: normal\; color: rgb(106\, 106\, 106)\; font-family: Roboto\, arial\, sans-serif\; font-size: small\; font-variant-ligatures: normal\; font-variant-caps: normal\; letter-spacing: normal\; orphans: 2\; text-align: left\; text-indent: 0px\; text-transform: none\; white-space: normal\; widows: 2\; word-spacing: 0px\; -webkit-text-stroke-width: 0px\; background-color: rgb(255\, 255\, 255)\; text-decoration-style: initial\; text-decoration-color: initial\;">Puppies</em><span style="color: rgb(84\, 84\, 84)\; font-family: Roboto\, arial\, sans-serif\; font-size: small\; font-style: normal\; font-variant-ligatures: normal\; font-variant-caps: normal\; font-weight: 400\; letter-spacing: normal\; orphans: 2\; text-align: left\; text-indent: 0px\; text-transform: none\; white-space: normal\; widows: 2\; word-spacing: 0px\; -webkit-text-stroke-width: 0px\; background-color: rgb(255\, 255\, 255)\; text-decoration-style: initial\; text-decoration-color: initial\; display: inline !important\; float: none\;">. Congratulations! You&#39\;ve made the important decision to bring a<span>&nbsp\;</span></span><em style="font-weight: bold\; font-style: normal\; color: rgb(106\, 106\, 106)\; font-family: Roboto\, arial\, sans-serif\; font-size: small\; font-variant-ligatures: normal\; font-variant-caps: normal\; letter-spacing: normal\; orphans: 2\; text-align: left\; text-indent: 0px\; text-transform: none\; white-space: normal\; widows: 2\; word-spacing: 0px\; -webkit-text-stroke-width: 0px\; background-color: rgb(255\, 255\, 255)\; text-decoration-style: initial\; text-decoration-color: initial\;">puppy</em><span style="color: rgb(84\, 84\, 84)\; font-family: Roboto\, arial\, sans-serif\; font-size: small\; font-style: normal\; font-variant-ligatures: normal\; font-variant-caps: normal\; font-weight: 400\; letter-spacing: normal\; orphans: 2\; text-align: left\; text-indent: 0px\; text-transform: none\; white-space: normal\; widows: 2\; word-spacing: 0px\; -webkit-text-stroke-width: 0px\; background-color: rgb(255\, 255\, 255)\; text-decoration-style: initial\; text-decoration-color: initial\; display: inline !important\; float: none\;"><span>&nbsp\;</span>into your heart as well as your home. Now let&#39\;s find the right breed for you from a</span><wbr style="color: rgb(84\, 84\, 84)\; font-family: Roboto\, arial\, sans-serif\; font-size: small\; font-style: normal\; font-variant-ligatures: normal\; font-variant-caps: normal\; font-weight: 400\; letter-spacing: normal\; orphans: 2\; text-align: left\; text-indent: 0px\; text-transform: none\; white-space: normal\; widows: 2\; word-spacing: 0px\; -webkit-text-stroke-width: 0px\; background-color: rgb(255\, 255\, 255)\; text-decoration-style: initial\; text-decoration-color: initial\;" /><span style="color: rgb(84\, 84\, 84)\; font-family: Roboto\, arial\, sans-serif\; font-size: small\; font-style: normal\; font-variant-ligatures: normal\; font-variant-caps: normal\; font-weight: 400\; letter-spacing: normal\; orphans: 2\; text-align: left\; text-indent: 0px\; text-transform: none\; white-space: normal\; widows: 2\; word-spacing: 0px\; -webkit-text-stroke-width: 0px\; background-color: rgb(255\, 255\, 255)\; text-decoration-style: initial\; text-decoration-color: initial\; display: inline !important\; float: none\;">&nbsp\;...<br />\n<br />\nalksjflkasjd\;lkfjasdkjglkanv\;oiaweja\;lkdsmfl\;kajsdf from</span>
LOCATION:asdf
UID:e.1526.2680
SEQUENCE:3
DTSTAMP:20260425T040432Z
URL:http://missyssite.sampleorg.com/events/details/blah-blah-2680
END:VEVENT

END:VCALENDAR
