BEGIN:VCALENDAR
VERSION:2.0
PRODID:-//ChamberMaster//Event Calendar 2.0//EN
METHOD:PUBLISH
X-PUBLISHED-TTL:P3D
REFRESH-INTERVAL:P3D
CALSCALE:GREGORIAN
BEGIN:VEVENT
DTSTART:20191225T140000Z
DTEND:20191226T010000Z
X-MICROSOFT-CDO-ALLDAYEVENT:FALSE
SUMMARY:Annual Meeting
DESCRIPTION:test jl\;kjhiuhgiugbkhjlhh
X-ALT-DESC;FMTTYPE=text/html:test jl\;kjhiuhgiugbkhjlhh
LOCATION:test
UID:e.1526.2585
SEQUENCE:3
DTSTAMP:20260422T222231Z
URL:http://missyssite.sampleorg.com/events/details/annual-meeting-12-25-2019-2585
END:VEVENT

END:VCALENDAR
