BEGIN:VCALENDAR
VERSION:2.0
PRODID:-//ChamberMaster//Event Calendar 2.0//EN
METHOD:PUBLISH
X-PUBLISHED-TTL:P3D
REFRESH-INTERVAL:P3D
CALSCALE:GREGORIAN
BEGIN:VEVENT
DTSTART:20190929T130000Z
DTEND:20190930T000000Z
X-MICROSOFT-CDO-ALLDAYEVENT:FALSE
SUMMARY:Location test
DESCRIPTION:test jl\;kjhiuhgiugbkhjlhh
X-ALT-DESC;FMTTYPE=text/html:test jl\;kjhiuhgiugbkhjlhh
LOCATION:24400 Smiley Rd Ste 4 Nisswa\, MN 56468
UID:e.1526.2738
SEQUENCE:3
DTSTAMP:20260423T055918Z
URL:http://missyssite.sampleorg.com/events/details/annual-meeting-09-29-2019-2738
END:VEVENT

END:VCALENDAR
