BEGIN:VCALENDAR
VERSION:2.0
PRODID:-//ChamberMaster//Event Calendar 2.0//EN
METHOD:PUBLISH
X-PUBLISHED-TTL:P3D
REFRESH-INTERVAL:P3D
CALSCALE:GREGORIAN
BEGIN:VEVENT
DTSTART:20190830T130000Z
DTEND:20190831T000000Z
X-MICROSOFT-CDO-ALLDAYEVENT:FALSE
SUMMARY:Annual Meeting
DESCRIPTION:Click here for vendor form
X-ALT-DESC;FMTTYPE=text/html:<a href="https://chambermaster.blob.core.windows.net/userfiles/UserFiles/chambers/1526/File/RULES.pdf">Click here for vendor form</a>
LOCATION:test
UID:e.1526.2581
SEQUENCE:3
DTSTAMP:20260423T073920Z
URL:http://missyssite.sampleorg.com/events/details/annual-meeting-08-25-2019-2581
END:VEVENT

END:VCALENDAR
