BEGIN:VCALENDAR
VERSION:2.0
PRODID:-//ChamberMaster//Event Calendar 2.0//EN
METHOD:PUBLISH
X-PUBLISHED-TTL:P3D
REFRESH-INTERVAL:P3D
CALSCALE:GREGORIAN
BEGIN:VEVENT
DTSTART:20190325T130000Z
DTEND:20190326T000000Z
X-MICROSOFT-CDO-ALLDAYEVENT:FALSE
SUMMARY:Annual Meeting
DESCRIPTION:test jl\;kjhiuhgiugbkhjlhh
X-ALT-DESC;FMTTYPE=text/html:test jl\;kjhiuhgiugbkhjlhh
LOCATION:test
UID:e.1526.2576
SEQUENCE:3
DTSTAMP:20260423T222412Z
URL:http://missyssite.sampleorg.com/events/details/annual-meeting-03-25-2019-2576
END:VEVENT

END:VCALENDAR
