BEGIN:VCALENDAR
VERSION:2.0
PRODID:-//ChamberMaster//Event Calendar 2.0//EN
METHOD:PUBLISH
X-PUBLISHED-TTL:P3D
REFRESH-INTERVAL:P3D
CALSCALE:GREGORIAN
BEGIN:VEVENT
DTSTART:20191224T230000Z
DTEND:20191225T040000Z
X-MICROSOFT-CDO-ALLDAYEVENT:FALSE
SUMMARY:Annual Christmas Dinner
DESCRIPTION:Come enjoy food\, fun and  music with fellow members. Remember to bring a food item for the food shelf.
X-ALT-DESC;FMTTYPE=text/html:Come enjoy food\, fun and&nbsp\; music with fellow members. Remember to bring a food item for the food shelf.
LOCATION:Local ball room
UID:e.1526.2304
SEQUENCE:3
DTSTAMP:20260422T235259Z
URL:http://missyssite.sampleorg.com/events/details/annual-christmas-dinner-2304
END:VEVENT

END:VCALENDAR
