BEGIN:VCALENDAR
VERSION:2.0
PRODID:-//ChamberMaster//Event Calendar 2.0//EN
METHOD:PUBLISH
X-PUBLISHED-TTL:P3D
REFRESH-INTERVAL:P3D
CALSCALE:GREGORIAN
BEGIN:VEVENT
DTSTART:20190705T200000Z
DTEND:20190706T010000Z
X-MICROSOFT-CDO-ALLDAYEVENT:FALSE
SUMMARY:2019 Business Extravaganza
DESCRIPTION:Make plans to attend the 20th Annual Business Holiday Extravaganza at Town Hall of Madden's Resort on Friday\, May 31st\, from 4:30 to 7:00 p.m. But don't come alone! Invite a guest\, your employees\, vendors and best customers. Take this opportunity to give them the gift of connection by introducing them to your business associates.\n\n\n\nMore than 500 Green Valley Area guests attend this first-class event which will include spectacular home decor\, fabulous hors d'oeuvres and wine\, and networking with area businesses. \n\n\n\nThis event is $3 for Chamber members\, their employees\, and the public. Cash bars will be available for purchasing beverages. \n\n\n\nBooth Registration Information\n\n\n	Booth Registration Form\n	Floor Plan\n	Menu / Displayed Hors D'oeuvres Descriptions\n\n\n\nCancelation Policy:\n\nCancelations must be made in writing via fax at (218) 123-1234 or email to greenvalleycoc@mailinator.com by end of business on Friday\, May 17th. Refunds not available after this date.
X-ALT-DESC;FMTTYPE=text/html:<span style="font-size: 12px\;"><span style="font-family: arial\;">Make plans to attend&nbsp\;the 20th Annual <font color="#ff0000"><strong><font color="#000000" title="blocked::http://cl.exct.net/?ju=fe2e16717062047e731175&amp\;ls=fde511797361027a7211707d&amp\;m=ff2713757d60&amp\;l=fe9316727165037872&amp\;s=fe26117675620c79721574&amp\;jb=ffcf14&amp\;t=">Business Holiday Extravaganza</font></strong><strong>&nbsp\;</strong></font>at&nbsp\;Town Hall of Madden&#39\;s Resort&nbsp\;on Friday\, May 31st\,&nbsp\;from 4:30 to 7:00 p.m. But don&#39\;t come alone! Invite a guest\, your employees\, vendors and best customers. Take this opportunity to give them the gift of connection by introducing them to your business associates.<br />\n<br />\nMore than 500 Green Valley Area guests attend this first-class event which will include spectacular home decor\, fabulous hors d&#39\;oeuvres and wine\, and networking with area businesses. </span></span><br />\n<br />\n<span style="font-size: 12px\;"><span style="font-family: arial\;">This </span></span>event is&nbsp\;$3&nbsp\;for Chamber members\, their employees\, and&nbsp\;the public. Cash bars will be available for purchasing beverages.&nbsp\;<br />\n<br />\n<span style="font-size: 12px\;"><span style="font-family: arial\;"><strong>Booth Registration Information</strong></span></span>\n\n<ul>\n	<li><a href="http://cloud.chambermaster.com/userfiles/UserFiles/chambers/1/File/2015_Business_Holiday_Extravaganza/2015BoothSponsorAgreementFINAL.pdf"><strong>Booth Registration Form</strong></a></li>\n	<li><a href="http://cloud.chambermaster.com/userfiles/UserFiles/chambers/1/File/2015_Business_Holiday_Extravaganza/2015BHEFloorplan.pdf"><strong>Floor Plan</strong></a></li>\n	<li><a href="http://cloud.chambermaster.com/userfiles/UserFiles/chambers/1/File/2015_Business_Holiday_Extravaganza/BusinessExpo2015Menu.pdf"><strong>Menu</strong>&nbsp\;/ <strong>Displayed Hors D&#39\;oeuvres Descriptions</strong></a></li>\n</ul>\n<br />\n<strong>Cancelation Policy:</strong><br />\nCancelations must be made in writing via fax at (218) 123-1234 or email to greenvalleycoc@mailinator.com by end of business on Friday\, May 17th. Refunds not available after this date.
LOCATION:Town Hall of Madden's Resort CR 77 Lakeshore\, MN
UID:e.1526.2863
SEQUENCE:3
DTSTAMP:20260423T111005Z
URL:http://missyssite.sampleorg.com/events/details/2019-business-extravaganza-2863
END:VEVENT

END:VCALENDAR
