BEGIN:VCALENDAR
VERSION:2.0
PRODID:-//ChamberMaster//Event Calendar 2.0//EN
METHOD:PUBLISH
X-PUBLISHED-TTL:P3D
REFRESH-INTERVAL:P3D
CALSCALE:GREGORIAN
BEGIN:VEVENT
DTSTART:20170725T210000Z
DTEND:20170725T050000Z
X-MICROSOFT-CDO-ALLDAYEVENT:FALSE
SUMMARY:2017 4th of July days
DESCRIPTION:Fireworks\, parades\, entertainment! Come celebrate our Independence Day with Fourth of July activities July 3-4 in Pequot Lakes.  July 4 highlights include the annual parade! This two-day event is loaded with family fun events.\n\n\n\n\n\nJuly 3\n\n5 p.m.- 11 p.m. Beer Garden sponsored by Community Action\n\n5 p.m. Food Vendors\n\n7 p.m.- 10 p.m. DJ & Karaoke by Teddy Bear Sound\n\n8 p.m. - Glow Trot along the Paul Bunyan Trail\n\nAfter Dusk Fireworks by Zambelli Fireworks at the International- High School Ball Fields\n\n\n\nJuly 4\n\n9 a.m.-4 p.m. - Flea Market\, Craft Fair & Food Vendors - Trailside Park\n\n10:00 a.m.- Money in the Haystack- Trailside Park\n\n10:30 a.m. - Kiddie Parade Registration-Band Shell\n\n11 a.m. - Kiddie Parade\n\n12 p.m. - Stars & Stripes Parade\n\n7 p.m.- Decade 7- Band Shell Pequot Lakes\n\n\n\n \n\nAll parade entries must be pre-registered by July 1\, 2015 - Get the Entry Form\n\n\n\nStay for more than a day! Take in all the happenings with this event and more by extending your stay in the Brainerd Lakes Area. No other vacation destination in Minnesota offers the variety of lodging accommodations to fit every size\, price\, location\, and style.
X-ALT-DESC;FMTTYPE=text/html:<p><span style="font-size: 12px\;"><span style="font-family: arial\;">Fireworks\, parades\, entertainment! Come celebrate our Independence Day with Fourth of July activities July 3-4 in Pequot&nbsp\;Lakes.&nbsp\; July 4 highlights include the annual parade! This two-day event is loaded with family fun events.</span><br />\n<br />\n<br />\n<span style="font-family: arial\;"><big><strong>July 3</strong></big></span></span><br />\n5 p.m.- 11 p.m. Beer Garden sponsored by Community Action<br />\n5 p.m. Food Vendors<br />\n7 p.m.- 10 p.m. DJ &amp\; Karaoke by Teddy Bear Sound<br />\n8 p.m. - Glow Trot along the Paul Bunyan Trail<br />\n<span style="font-size: 12px\;"><big>After Dusk&nbsp\;Fireworks by Zambelli Fireworks&nbsp\;at the International- High School&nbsp\;Ball&nbsp\;Fields</big><br />\n<br />\n<span style="font-family: arial\;"><big><strong><span style="background-color: rgb(255\, 255\, 255)\;">July 4</span></strong></big><br />\n<big>9 a.m.-4 p.m. - Flea Market\, Craft Fair &amp\; Food Vendors - <em>Trailside Park</em><br />\n10:00 a.m.- Money in the Haystack- Trailside Park</big><br />\n<big>10:30 a.m. - Kiddie Parade Registration-<em>Band Shell</em></big><br />\n<big>11 a.m. - Kiddie Parade</big><br />\n<big><strong>12 p.m. - Stars &amp\; Stripes Parade</strong></big></span></span><br />\n7 p.m.- Decade 7- Band Shell Pequot Lakes<br />\n<br />\n&nbsp\;</p>\n\n<p style="text-align: center\;"><span style="font-size: 14px\;"><span style="font-family: arial\;"><big>All parade entries must be pre-registered by <strong>July 1\, 2015</strong>&nbsp\;- Get the <strong><a href="http://www.explorebrainerdlakes.com/wp-content/uploads/2015/05/2015-SS-Parade-Entry-Form.pdf" target="_blank">Entry Form</a></strong></big></span></span></p>\n\n<p><br />\n<span style="font-size: 12px\;"><strong><a href="http://business.explorebrainerdlakes.com/list/category/lodging-1">Stay for more than a day</a>!</strong><strong>&nbsp\;</strong>Take in all the happenings with this event and more by extending your stay in the Brainerd Lakes Area. No other vacation destination in Minnesota offers the variety of lodging accommodations to fit every size\, price\, location\, and style.</span></p>\n
LOCATION:Pequot Lakes: In Trailside Park and East Side of Downtown
UID:e.1526.2541
SEQUENCE:3
DTSTAMP:20260425T111656Z
URL:http://missyssite.sampleorg.com/events/details/2017-4th-of-july-days-2541
END:VEVENT

END:VCALENDAR
