BEGIN:VCALENDAR
VERSION:2.0
PRODID:-//ChamberMaster//Event Calendar 2.0//EN
METHOD:PUBLISH
X-PUBLISHED-TTL:P3D
REFRESH-INTERVAL:P3D
CALSCALE:GREGORIAN
BEGIN:VEVENT
DTSTART:20171126T220000Z
DTEND:20171127T020000Z
X-MICROSOFT-CDO-ALLDAYEVENT:FALSE
SUMMARY:2016 City of Lights
DESCRIPTION:Green Valley welcomes the holiday season with a countdown to lighting up the town that culminates with a fireworks display Friday\, Nov. 25. The downtown area lights up all at once at 5:30 p.m.\, with holiday lights adorning trees and fences\, stores and other buildings. Festivities for the annual event begin in the afternoon with horse-drawn wagon rides\, live reindeer\, storytelling\, food merchants\, bonfires\, hot cider and donut holes at the Pioneer Village and holiday carolers. After the countdown to turning on all the lights\, Santa Claus makes an appearance and fireworks shoot up over town at 7:30 pm
X-ALT-DESC;FMTTYPE=text/html:<strong><span style="color:#3D3D3D\;"><span style="font-family:arial\,sans-serif\;"><span style="font-size:9.0pt\;">Green Valley welcomes the holiday season with a countdown to lighting up the town that culminates with a fireworks display Friday\, Nov. 25. The downtown area lights up all at once at 5:30 p.m.\, with holiday lights adorning trees and fences\, stores and other buildings. Festivities for the&nbsp\;annual event begin in the afternoon with horse-drawn wagon rides\, live reindeer\, storytelling\, food merchants\, bonfires\, hot cider and donut holes at the Pioneer Village and holiday carolers. After the countdown to turning on all the lights\, Santa Claus makes an appearance and fireworks&nbsp\;shoot up over town at 7:30 pm</span></span></span></strong>
LOCATION:Downtown Green Valley
UID:e.1526.2301
SEQUENCE:3
DTSTAMP:20260425T030828Z
URL:http://missyssite.sampleorg.com/events/details/2016-city-of-lights-2301
END:VEVENT

END:VCALENDAR
