BEGIN:VCALENDAR
VERSION:2.0
PRODID:-//ChamberMaster//Event Calendar 2.0//EN
METHOD:PUBLISH
X-PUBLISHED-TTL:P3D
REFRESH-INTERVAL:P3D
CALSCALE:GREGORIAN
BEGIN:VEVENT
DTSTART:20170111T150000Z
DTEND:20170111T210000Z
X-MICROSOFT-CDO-ALLDAYEVENT:FALSE
SUMMARY:2015 Women's Fall Expo
DESCRIPTION:The Lakes Area Women's Expo presents it's 1st Annual Fall Show. The Shop Shop 'Til You Drop Show! Join us for some fun in the Fall.
X-ALT-DESC;FMTTYPE=text/html:The Lakes Area Women&#39\;s Expo presents it&#39\;s 1st Annual Fall Show. The Shop Shop &#39\;Til You Drop Show! Join us for some fun in the Fall.
LOCATION:Cragun's Resort - Lakeshore Room
UID:e.1526.2307
SEQUENCE:3
DTSTAMP:20260425T213410Z
URL:http://missyssite.sampleorg.com/events/details/2015-women-s-fall-expo-2307
END:VEVENT

END:VCALENDAR
