BEGIN:VCALENDAR
VERSION:2.0
PRODID:-//ChamberMaster//Event Calendar 2.0//EN
METHOD:PUBLISH
X-PUBLISHED-TTL:P3D
REFRESH-INTERVAL:P3D
CALSCALE:GREGORIAN
BEGIN:VEVENT
DTSTART;VALUE=DATE:20170421
DTEND;VALUE=DATE:20170422
TRANSP:TRANSPARENT
X-MICROSOFT-CDO-ALLDAYEVENT:TRUE
SUMMARY:2015 Family Picnic Day
DESCRIPTION:A day of fun and family. Food catered by WOW that was good catering and toys donated by Fun store.\n\n\n\ngames\n\nprizes\n\nfood\n\nfun
X-ALT-DESC;FMTTYPE=text/html:A day of fun and family. Food catered by WOW that was good catering and toys donated by Fun store.<br />\n<br />\ngames<br />\nprizes<br />\nfood<br />\nfun
LOCATION:Town Park
UID:e.1526.980
SEQUENCE:3
DTSTAMP:20260425T180652Z
URL:http://missyssite.sampleorg.com/events/details/2015-family-picnic-day-04-21-2015-980
END:VEVENT

END:VCALENDAR
