BEGIN:VCALENDAR
VERSION:2.0
PRODID:-//ChamberMaster//Event Calendar 2.0//EN
METHOD:PUBLISH
X-PUBLISHED-TTL:P3D
REFRESH-INTERVAL:P3D
CALSCALE:GREGORIAN
BEGIN:VEVENT
DTSTART:20181109T140000Z
DTEND:20181110T000000Z
X-MICROSOFT-CDO-ALLDAYEVENT:FALSE
SUMMARY:2015 Bike Ride 11/7/18
DESCRIPTION:Click here to volunteer
X-ALT-DESC;FMTTYPE=text/html:<a href="https://s5.chambermaster.com/eventregistration/register/2685">Click here to volunteer</a>
LOCATION:
UID:e.1526.2713
SEQUENCE:3
DTSTAMP:20260424T042913Z
URL:http://missyssite.sampleorg.com/events/details/2015-bike-ride-11-7-18-2713
END:VEVENT

END:VCALENDAR
