BEGIN:VCALENDAR
VERSION:2.0
PRODID:-//ChamberMaster//Event Calendar 2.0//EN
METHOD:PUBLISH
X-PUBLISHED-TTL:P3D
REFRESH-INTERVAL:P3D
CALSCALE:GREGORIAN
BEGIN:VEVENT
DTSTART;VALUE=DATE:20190604
DTEND;VALUE=DATE:20190605
TRANSP:TRANSPARENT
X-MICROSOFT-CDO-ALLDAYEVENT:TRUE
SUMMARY:11th Annual Block Party
DESCRIPTION:Live Music\n\nBonfire\n\nFireworks\n\n\n\nClick here for more information
X-ALT-DESC;FMTTYPE=text/html:Live Music<br />\nBonfire<br />\nFireworks<br />\n<br />\n<a href="https://chambermaster.blob.core.windows.net/userfiles/UserFiles/chambers/1526/File/Howtosendmembersloginandpasswordlinkemail.pdf">Click here for more information</a>
LOCATION:Town hall parking lot
UID:e.1526.2864
SEQUENCE:3
DTSTAMP:20260423T160646Z
URL:http://missyssite.sampleorg.com/events/details/11th-annual-block-party-2864
END:VEVENT

END:VCALENDAR
